BEGIN:VCALENDAR
VERSION:2.0
PRODID:icalendar-ruby
CALSCALE:GREGORIAN
METHOD:PUBLISH
BEGIN:VEVENT
DTSTAMP:20260422T141941Z
UID:e6583595-eab6-4c1b-aed0-fdf03848f340
DTSTART:20250704T120000
DTEND:20250706T235900
DESCRIPTION:<h3><span style="color: rgb(0\, 0\, 0)\;"><h3><strong>TICKETS A
 RE TEMPORARILY SOLD OUT. Register to be informed in advance of the next ti
 cket release</strong></h3></span></h3>
LOCATION:Parco Dora\, Turin
SUMMARY:Kappa FuturFestival 2025 - Waiting List
URL;VALUE=URI:https://store.howler.co.za/kff2025SU
END:VEVENT
END:VCALENDAR
